BEGIN:VCALENDAR
VERSION:2.0
PRODID:-//ChamberMaster//Event Calendar 2.0//EN
METHOD:PUBLISH
X-PUBLISHED-TTL:P3D
REFRESH-INTERVAL:P3D
CALSCALE:GREGORIAN
BEGIN:VEVENT
DTSTART:20260520T163000Z
DTEND:20260520T180000Z
X-MICROSOFT-CDO-ALLDAYEVENT:FALSE
SUMMARY:2026 Women Inspiring Success and Empowerment (WISE) Women's Networking Lunch
DESCRIPTION:Women's Networking Lunch: Connect\, Grow\, and Be Inspired\n\nJoin us for a casual and engaging Women's Networking Lunch\, designed to spark meaningful connections and foster professional growth. Mingle with like-minded women from a variety of industries while enjoying great food in a relaxed atmosphere.\n\n  Bring your business cards this event is all about building your network and expanding your circle.\n\n  Exciting raffles with fantastic prizes will add to the fun\, giving everyone a chance to win something special.\n\n  Special Guest Speaker: Beverly Dixon\n\nPresident & CEO of The Greater Keller Chamber of Commerce\n\nHear Beverly's inspiring story of how she's built a legacy of leadership both professionally and personally. \n\nDon't miss this perfect blend of food\, fun\, and empowerment!\n\n  Important Registration Note:\n\nYour registration must be paid at the time of submission to be considered complete. Unpaid registrations will be automatically deleted and will not be included in the event headcount.
X-ALT-DESC;FMTTYPE=text/html:<h3 data-end="148" data-start="84"><strong data-end="148" data-start="88">Women&#39\;s Networking Lunch: Connect\, Grow\, and Be Inspired</strong></h3>\n\n<p data-end="396" data-start="150">Join us for a casual and engaging <strong data-end="212" data-start="184">Women&#39\;s Networking Lunch</strong>\, designed to spark meaningful connections and foster professional growth. Mingle with like-minded women from a variety of industries while enjoying great food in a relaxed atmosphere.</p>\n\n<p data-end="503" data-start="398">&#128188\; <strong data-end="430" data-start="401">Bring your business cards</strong>&mdash\;this event is all about building your network and expanding your circle.</p>\n\n<p data-end="622" data-start="505">&#127881\; <strong data-end="528" data-start="508">Exciting raffles</strong> with fantastic prizes will add to the fun\, giving everyone a chance to win something special.</p>\n\n<p data-end="890" data-start="624">&#127775\; <strong data-end="668" data-start="627">Special Guest Speaker: Beverly Dixon</strong><br data-end="671" data-start="668" />\nPresident &amp\; CEO of The Greater Keller Chamber of Commerce<br data-end="731" data-start="728" />\nHear Beverly&rsquo\;s inspiring story of how she&rsquo\;s built a legacy of leadership both professionally and personally.&nbsp\;</p>\n\n<p data-end="961" data-start="897"><strong data-end="961" data-start="897">Don&#39\;t miss this perfect blend of food\, fun\, and empowerment!</strong></p>\n\n<p data-end="1196" data-start="963">&#128204\; <strong data-end="998" data-start="966">Important Registration Note:</strong><br data-end="1001" data-start="998" />\nYour registration must be <strong data-end="1061" data-start="1027">paid at the time of submission</strong> to be considered complete. Unpaid registrations will be <strong data-end="1143" data-start="1118">automatically deleted</strong> and will <strong data-end="1160" data-start="1153">not</strong> be included in the event headcount.</p>\n
LOCATION:Acquario Italian Restaurant 8849 Davis Blvd Keller\, Texas 76248
UID:e.7796.13420
SEQUENCE:3
DTSTAMP:20260422T111047Z
URL:https://business.kellerchamber.com/events/details/2026-women-inspiring-success-and-empowerment-wise-women-s-networking-lunch-05-21-2026-13420
END:VEVENT

END:VCALENDAR
