BEGIN:VCALENDAR
VERSION:2.0
PRODID:-//ChamberMaster//Event Calendar 2.0//EN
METHOD:PUBLISH
X-PUBLISHED-TTL:P3D
REFRESH-INTERVAL:P3D
CALSCALE:GREGORIAN
BEGIN:VEVENT
DTSTART:20260627T150000Z
DTEND:20260628T230000Z
X-MICROSOFT-CDO-ALLDAYEVENT:FALSE
SUMMARY:Texas Horror Lit Fest
DESCRIPTION:Free\, two-day literary festival featuring author panels\, book signings and programming centered around horror and speculative fictions
X-ALT-DESC;FMTTYPE=text/html:Free\, two-day literary festival featuring author panels\, book signings and programming centered around horror and speculative fictions
LOCATION:Irving Convention Center
UID:e.7796.13706
SEQUENCE:3
DTSTAMP:20260421T082449Z
URL:http://business.kellerchamber.com/events/details/texas-horror-lit-fest-13706
END:VEVENT

END:VCALENDAR
