BEGIN:VCALENDAR
VERSION:2.0
PRODID:-//ChamberMaster//Event Calendar 2.0//EN
METHOD:PUBLISH
X-PUBLISHED-TTL:P3D
REFRESH-INTERVAL:P3D
CALSCALE:GREGORIAN
BEGIN:VEVENT
DTSTART:20260420T230000Z
DTEND:20260421T010000Z
X-MICROSOFT-CDO-ALLDAYEVENT:FALSE
SUMMARY:LGK Project Community Presentation
DESCRIPTION:LGK Class will be unveiling their Leadership Community Project\, an initiative designed to create lasting impact for Keller and the surrounding area.
X-ALT-DESC;FMTTYPE=text/html:<!--StartFragment--><span data-olk-copy-source="MessageBody">LGK Class will be unveiling their Leadership Community Project\, an initiative designed to create lasting impact for Keller and the surrounding area.</span><!--EndFragment-->
LOCATION:Main Event-Alliance
UID:e.7796.13707
SEQUENCE:3
DTSTAMP:20260419T124050Z
URL:http://business.kellerchamber.com/events/details/lgk-project-community-presentation-13707
END:VEVENT

END:VCALENDAR
